BEGIN:VCALENDAR
VERSION:2.0
PRODID:-//Hug and Kiss Designs Inc. - ECPv6.15.1.1//NONSGML v1.0//EN
CALSCALE:GREGORIAN
METHOD:PUBLISH
X-ORIGINAL-URL:https://hugandkissdesigns.com
X-WR-CALDESC:Events for Hug and Kiss Designs Inc.
REFRESH-INTERVAL;VALUE=DURATION:PT1H
X-Robots-Tag:noindex
X-PUBLISHED-TTL:PT1H
BEGIN:VTIMEZONE
TZID:America/Vancouver
BEGIN:DAYLIGHT
TZOFFSETFROM:-0800
TZOFFSETTO:-0700
TZNAME:PDT
DTSTART:20260308T100000
END:DAYLIGHT
BEGIN:STANDARD
TZOFFSETFROM:-0700
TZOFFSETTO:-0800
TZNAME:PST
DTSTART:20261101T090000
END:STANDARD
END:VTIMEZONE
BEGIN:VEVENT
DTSTART;TZID=America/Vancouver:20260523T100000
DTEND;TZID=America/Vancouver:20260523T160000
DTSTAMP:20260419T172443
CREATED:20260110T161101Z
LAST-MODIFIED:20260110T161101Z
UID:10812-1779530400-1779552000@hugandkissdesigns.com
SUMMARY:Mango Market
DESCRIPTION:Market Dates & Times\nSaturday\, May 23 — 10am–4pm\nSunday\, May 24 — 10am–4pm \nLocation: Abbotsford Ag-Rec Centre (Indoor)
URL:https://hugandkissdesigns.com/event/mango-market/
LOCATION:Abbotsford Ag Rec Centre\, 32470 Haida Dr\, Abbotsford\, BC\, V2T 5A6\, Canada
CATEGORIES:Craft Show
END:VEVENT
END:VCALENDAR