BEGIN:VCALENDAR
VERSION:2.0
PRODID:-//Hug and Kiss Designs Inc. - ECPv6.15.1.1//NONSGML v1.0//EN
CALSCALE:GREGORIAN
METHOD:PUBLISH
X-ORIGINAL-URL:https://hugandkissdesigns.com
X-WR-CALDESC:Events for Hug and Kiss Designs Inc.
REFRESH-INTERVAL;VALUE=DURATION:PT1H
X-Robots-Tag:noindex
X-PUBLISHED-TTL:PT1H
BEGIN:VTIMEZONE
TZID:America/Vancouver
BEGIN:DAYLIGHT
TZOFFSETFROM:-0800
TZOFFSETTO:-0700
TZNAME:PDT
DTSTART:20240310T100000
END:DAYLIGHT
BEGIN:STANDARD
TZOFFSETFROM:-0700
TZOFFSETTO:-0800
TZNAME:PST
DTSTART:20241103T090000
END:STANDARD
END:VTIMEZONE
BEGIN:VEVENT
DTSTART;TZID=America/Vancouver:20241102T100000
DTEND;TZID=America/Vancouver:20241102T170000
DTSTAMP:20260419T204457
CREATED:20240711T194413Z
LAST-MODIFIED:20240711T194641Z
UID:10049-1730541600-1730566800@hugandkissdesigns.com
SUMMARY:The Vintage Barn Market
DESCRIPTION:
URL:https://hugandkissdesigns.com/event/the-vintage-barn-market-2/
LOCATION:Chilliwack Heritage Park\, 44140 Luckakuck Way\, Chilliwack\, British Columbia\, V2R 4A7\, Canada
CATEGORIES:Craft Show
END:VEVENT
BEGIN:VEVENT
DTSTART;TZID=America/Vancouver:20241103T100000
DTEND;TZID=America/Vancouver:20241103T160000
DTSTAMP:20260419T204457
CREATED:20240711T194539Z
LAST-MODIFIED:20240711T194539Z
UID:10051-1730628000-1730649600@hugandkissdesigns.com
SUMMARY:The Vintage Barn Market
DESCRIPTION:
URL:https://hugandkissdesigns.com/event/the-vintage-barn-market-3/
LOCATION:Chilliwack Heritage Park\, 44140 Luckakuck Way\, Chilliwack\, British Columbia\, V2R 4A7\, Canada
CATEGORIES:Craft Show
END:VEVENT
BEGIN:VEVENT
DTSTART;TZID=America/Vancouver:20241115T120000
DTEND;TZID=America/Vancouver:20241115T200000
DTSTAMP:20260419T204457
CREATED:20240711T192533Z
LAST-MODIFIED:20240711T193312Z
UID:10038-1731672000-1731700800@hugandkissdesigns.com
SUMMARY:Chilliwack Christmas Craft Fair
DESCRIPTION:
URL:https://hugandkissdesigns.com/event/chilliwack-christmas-craft-fair/
LOCATION:Chilliwack Heritage Park\, 44140 Luckakuck Way\, Chilliwack\, British Columbia\, V2R 4A7\, Canada
CATEGORIES:Craft Show
ATTACH;FMTTYPE=image/jpeg:https://hugandkissdesigns.com/wp-content/uploads/2024/07/IMG_6966-scaled.jpeg
END:VEVENT
BEGIN:VEVENT
DTSTART;TZID=America/Vancouver:20241116T100000
DTEND;TZID=America/Vancouver:20241116T180000
DTSTAMP:20260419T204457
CREATED:20240711T193412Z
LAST-MODIFIED:20240711T193412Z
UID:10043-1731751200-1731780000@hugandkissdesigns.com
SUMMARY:Chilliwack Christmas Craft Fair
DESCRIPTION:
URL:https://hugandkissdesigns.com/event/chilliwack-christmas-craft-fair-2/
LOCATION:Chilliwack Heritage Park\, 44140 Luckakuck Way\, Chilliwack\, British Columbia\, V2R 4A7\, Canada
CATEGORIES:Craft Show
ATTACH;FMTTYPE=image/jpeg:https://hugandkissdesigns.com/wp-content/uploads/2024/07/IMG_6966-scaled.jpeg
END:VEVENT
BEGIN:VEVENT
DTSTART;TZID=America/Vancouver:20241117T100000
DTEND;TZID=America/Vancouver:20241117T160000
DTSTAMP:20260419T204457
CREATED:20240711T193518Z
LAST-MODIFIED:20240711T193518Z
UID:10045-1731837600-1731859200@hugandkissdesigns.com
SUMMARY:Chilliwack Christmas Craft Fair
DESCRIPTION:
URL:https://hugandkissdesigns.com/event/chilliwack-christmas-craft-fair-3/
LOCATION:Chilliwack Heritage Park\, 44140 Luckakuck Way\, Chilliwack\, British Columbia\, V2R 4A7\, Canada
CATEGORIES:Craft Show
ATTACH;FMTTYPE=image/jpeg:https://hugandkissdesigns.com/wp-content/uploads/2024/07/IMG_6966-scaled.jpeg
END:VEVENT
END:VCALENDAR