BEGIN:VCALENDAR
VERSION:2.0
PRODID:-//Hug and Kiss Designs Inc. - ECPv6.15.1.1//NONSGML v1.0//EN
CALSCALE:GREGORIAN
METHOD:PUBLISH
X-ORIGINAL-URL:https://hugandkissdesigns.com
X-WR-CALDESC:Events for Hug and Kiss Designs Inc.
REFRESH-INTERVAL;VALUE=DURATION:PT1H
X-Robots-Tag:noindex
X-PUBLISHED-TTL:PT1H
BEGIN:VTIMEZONE
TZID:America/Vancouver
BEGIN:DAYLIGHT
TZOFFSETFROM:-0800
TZOFFSETTO:-0700
TZNAME:PDT
DTSTART:20240310T100000
END:DAYLIGHT
BEGIN:STANDARD
TZOFFSETFROM:-0700
TZOFFSETTO:-0800
TZNAME:PST
DTSTART:20241103T090000
END:STANDARD
END:VTIMEZONE
BEGIN:VEVENT
DTSTART;TZID=America/Vancouver:20241212T170000
DTEND;TZID=America/Vancouver:20241212T210000
DTSTAMP:20260419T224747
CREATED:20240711T185926Z
LAST-MODIFIED:20240711T190454Z
UID:10029-1734022800-1734037200@hugandkissdesigns.com
SUMMARY:Make It Vancouver
DESCRIPTION:
URL:https://hugandkissdesigns.com/event/make-it-vancouver-5/
LOCATION:PNE Forum\, 2901 E Hastings Street\, Vancouver\, British Columbia\, Canada
CATEGORIES:Craft Show
ATTACH;FMTTYPE=image/jpeg:https://hugandkissdesigns.com/wp-content/uploads/2024/07/IMG_9103-scaled.jpg
END:VEVENT
BEGIN:VEVENT
DTSTART;TZID=America/Vancouver:20241213T110000
DTEND;TZID=America/Vancouver:20241213T210000
DTSTAMP:20260419T224747
CREATED:20240711T192032Z
LAST-MODIFIED:20240711T192032Z
UID:10032-1734087600-1734123600@hugandkissdesigns.com
SUMMARY:Make It Vancouver
DESCRIPTION:
URL:https://hugandkissdesigns.com/event/make-it-vancouver-6/
LOCATION:PNE Forum\, 2901 E Hastings Street\, Vancouver\, British Columbia\, Canada
CATEGORIES:Craft Show
ATTACH;FMTTYPE=image/jpeg:https://hugandkissdesigns.com/wp-content/uploads/2024/07/IMG_9103-scaled.jpg
END:VEVENT
BEGIN:VEVENT
DTSTART;TZID=America/Vancouver:20241214T100000
DTEND;TZID=America/Vancouver:20241214T180000
DTSTAMP:20260419T224747
CREATED:20240711T192309Z
LAST-MODIFIED:20240711T192309Z
UID:10034-1734170400-1734199200@hugandkissdesigns.com
SUMMARY:Make It Vancouver
DESCRIPTION:
URL:https://hugandkissdesigns.com/event/make-it-vancouver-7/
LOCATION:PNE Forum\, 2901 E Hastings Street\, Vancouver\, British Columbia\, Canada
CATEGORIES:Craft Show
ATTACH;FMTTYPE=image/jpeg:https://hugandkissdesigns.com/wp-content/uploads/2024/07/IMG_9103-scaled.jpg
END:VEVENT
BEGIN:VEVENT
DTSTART;TZID=America/Vancouver:20241215T110000
DTEND;TZID=America/Vancouver:20241215T170000
DTSTAMP:20260419T224747
CREATED:20240711T192438Z
LAST-MODIFIED:20240711T192438Z
UID:10036-1734260400-1734282000@hugandkissdesigns.com
SUMMARY:Make It Vancouver
DESCRIPTION:
URL:https://hugandkissdesigns.com/event/make-it-vancouver-8/
LOCATION:PNE Forum\, 2901 E Hastings Street\, Vancouver\, British Columbia\, Canada
CATEGORIES:Craft Show
ATTACH;FMTTYPE=image/jpeg:https://hugandkissdesigns.com/wp-content/uploads/2024/07/IMG_9103-scaled.jpg
END:VEVENT
END:VCALENDAR