BEGIN:VCALENDAR
VERSION:2.0
PRODID:-//Hug and Kiss Designs Inc. - ECPv6.15.1.1//NONSGML v1.0//EN
CALSCALE:GREGORIAN
METHOD:PUBLISH
X-ORIGINAL-URL:https://hugandkissdesigns.com
X-WR-CALDESC:Events for Hug and Kiss Designs Inc.
REFRESH-INTERVAL;VALUE=DURATION:PT1H
X-Robots-Tag:noindex
X-PUBLISHED-TTL:PT1H
BEGIN:VTIMEZONE
TZID:America/Vancouver
BEGIN:DAYLIGHT
TZOFFSETFROM:-0800
TZOFFSETTO:-0700
TZNAME:PDT
DTSTART:20250309T100000
END:DAYLIGHT
BEGIN:STANDARD
TZOFFSETFROM:-0700
TZOFFSETTO:-0800
TZNAME:PST
DTSTART:20251102T090000
END:STANDARD
END:VTIMEZONE
BEGIN:VEVENT
DTSTART;TZID=America/Vancouver:20251114T140000
DTEND;TZID=America/Vancouver:20251114T200000
DTSTAMP:20260419T223348
CREATED:20250920T021732Z
LAST-MODIFIED:20250920T021732Z
UID:10354-1763128800-1763150400@hugandkissdesigns.com
SUMMARY:Chilliwack Christmas Craft Fair
DESCRIPTION:Dates\nNovember 14 from 2pm to 8pmNovember 15 from 10am to 6pmNovember 16 from 10am to 4pm \n \nLocation\nChilliwack Heritage Park44140 Luckakuck WayChilliwack BC \n\nCost\n$7 per person for the weekendFree for children 12 and underParking is by donation
URL:https://hugandkissdesigns.com/event/chilliwack-christmas-craft-fair-4/
LOCATION:Chilliwack Heritage Park\, 44140 Luckakuck Way\, Chilliwack\, British Columbia\, V2R 4A7\, Canada
CATEGORIES:Convention,Craft Show,Holiday
ATTACH;FMTTYPE=image/jpeg:https://hugandkissdesigns.com/wp-content/uploads/2025/05/IMG_6435-scaled.jpeg
END:VEVENT
BEGIN:VEVENT
DTSTART;TZID=America/Vancouver:20251115T100000
DTEND;TZID=America/Vancouver:20251115T180000
DTSTAMP:20260419T223348
CREATED:20250920T021935Z
LAST-MODIFIED:20250920T021935Z
UID:10356-1763200800-1763229600@hugandkissdesigns.com
SUMMARY:Chilliwack Christmas Craft Fair
DESCRIPTION:Dates\nNovember 14 from 2pm to 8pmNovember 15 from 10am to 6pmNovember 16 from 10am to 4pm \n  \nLocation\nChilliwack Heritage Park44140 Luckakuck WayChilliwack BC \n\nCost\n$7 per person for the weekendFree for children 12 and underParking is by donation
URL:https://hugandkissdesigns.com/event/chilliwack-christmas-craft-fair-5/
LOCATION:Chilliwack Heritage Park\, 44140 Luckakuck Way\, Chilliwack\, British Columbia\, V2R 4A7\, Canada
CATEGORIES:Convention,Craft Show,Holiday
ATTACH;FMTTYPE=image/jpeg:https://hugandkissdesigns.com/wp-content/uploads/2025/05/IMG_6435-scaled.jpeg
END:VEVENT
BEGIN:VEVENT
DTSTART;TZID=America/Vancouver:20251116T100000
DTEND;TZID=America/Vancouver:20251116T160000
DTSTAMP:20260419T223348
CREATED:20250920T022035Z
LAST-MODIFIED:20250920T022035Z
UID:10358-1763287200-1763308800@hugandkissdesigns.com
SUMMARY:Chilliwack Christmas Craft Fair
DESCRIPTION:Dates\nNovember 14 from 2pm to 8pmNovember 15 from 10am to 6pmNovember 16 from 10am to 4pm \n  \nLocation\nChilliwack Heritage Park44140 Luckakuck WayChilliwack BC \n\nCost\n$7 per person for the weekendFree for children 12 and underParking is by donation
URL:https://hugandkissdesigns.com/event/chilliwack-christmas-craft-fair-6/
LOCATION:Chilliwack Heritage Park\, 44140 Luckakuck Way\, Chilliwack\, British Columbia\, V2R 4A7\, Canada
CATEGORIES:Convention,Craft Show,Holiday
ATTACH;FMTTYPE=image/jpeg:https://hugandkissdesigns.com/wp-content/uploads/2025/05/IMG_6435-scaled.jpeg
END:VEVENT
END:VCALENDAR