BEGIN:VCALENDAR
VERSION:2.0
PRODID:-//Hug and Kiss Designs Inc. - ECPv6.15.1.1//NONSGML v1.0//EN
CALSCALE:GREGORIAN
METHOD:PUBLISH
X-ORIGINAL-URL:https://hugandkissdesigns.com
X-WR-CALDESC:Events for Hug and Kiss Designs Inc.
REFRESH-INTERVAL;VALUE=DURATION:PT1H
X-Robots-Tag:noindex
X-PUBLISHED-TTL:PT1H
BEGIN:VTIMEZONE
TZID:America/Vancouver
BEGIN:DAYLIGHT
TZOFFSETFROM:-0800
TZOFFSETTO:-0700
TZNAME:PDT
DTSTART:20250309T100000
END:DAYLIGHT
BEGIN:STANDARD
TZOFFSETFROM:-0700
TZOFFSETTO:-0800
TZNAME:PST
DTSTART:20251102T090000
END:STANDARD
END:VTIMEZONE
BEGIN:VEVENT
DTSTART;TZID=America/Vancouver:20251204T170000
DTEND;TZID=America/Vancouver:20251204T210000
DTSTAMP:20260419T204456
CREATED:20250920T022443Z
LAST-MODIFIED:20250920T023934Z
UID:10360-1764867600-1764882000@hugandkissdesigns.com
SUMMARY:Make It Vancouver
DESCRIPTION:Dates\nDecember 4 from 5pm to 9pm\nDecember 5 from 11am to 9pm\nDecember 6 from 10am to 6pm\nDecember 7 from 11am to 5pm \n  \nLocation\nPNE Forum\n2901 East Hastings St.Vancouver BC \n 
URL:https://hugandkissdesigns.com/event/make-it-vancouver-9/
LOCATION:PNE Forum\, 2901 E Hastings Street\, Vancouver\, British Columbia\, Canada
CATEGORIES:Craft Show,Holiday
ATTACH;FMTTYPE=image/jpeg:https://hugandkissdesigns.com/wp-content/uploads/2025/05/IMG_6435-scaled.jpeg
END:VEVENT
BEGIN:VEVENT
DTSTART;TZID=America/Vancouver:20251205T110000
DTEND;TZID=America/Vancouver:20251205T210000
DTSTAMP:20260419T204456
CREATED:20250920T024032Z
LAST-MODIFIED:20250920T024032Z
UID:10366-1764932400-1764968400@hugandkissdesigns.com
SUMMARY:Make It Vancouver
DESCRIPTION:Dates\nDecember 4 from 5pm to 9pm\nDecember 5 from 11am to 9pm\nDecember 6 from 10am to 6pm\nDecember 7 from 11am to 5pm \n  \nLocation\nPNE Forum\n2901 East Hastings St.Vancouver BC \n 
URL:https://hugandkissdesigns.com/event/make-it-vancouver-10/
LOCATION:PNE Forum\, 2901 E Hastings Street\, Vancouver\, British Columbia\, Canada
CATEGORIES:Craft Show,Holiday
ATTACH;FMTTYPE=image/jpeg:https://hugandkissdesigns.com/wp-content/uploads/2025/05/IMG_6435-scaled.jpeg
END:VEVENT
BEGIN:VEVENT
DTSTART;TZID=America/Vancouver:20251206T100000
DTEND;TZID=America/Vancouver:20251206T180000
DTSTAMP:20260419T204456
CREATED:20250920T024129Z
LAST-MODIFIED:20250920T024129Z
UID:10368-1765015200-1765044000@hugandkissdesigns.com
SUMMARY:Make It Vancouver
DESCRIPTION:Dates\nDecember 4 from 5pm to 9pm\nDecember 5 from 11am to 9pm\nDecember 6 from 10am to 6pm\nDecember 7 from 11am to 5pm \n  \nLocation\nPNE Forum\n2901 East Hastings St.Vancouver BC \n 
URL:https://hugandkissdesigns.com/event/make-it-vancouver-11/
LOCATION:PNE Forum\, 2901 E Hastings Street\, Vancouver\, British Columbia\, Canada
CATEGORIES:Craft Show,Holiday
ATTACH;FMTTYPE=image/jpeg:https://hugandkissdesigns.com/wp-content/uploads/2025/05/IMG_6435-scaled.jpeg
END:VEVENT
BEGIN:VEVENT
DTSTART;TZID=America/Vancouver:20251207T110000
DTEND;TZID=America/Vancouver:20251207T170000
DTSTAMP:20260419T204456
CREATED:20250920T024224Z
LAST-MODIFIED:20250920T024224Z
UID:10370-1765105200-1765126800@hugandkissdesigns.com
SUMMARY:Make It Vancouver
DESCRIPTION:Dates\nDecember 4 from 5pm to 9pm\nDecember 5 from 11am to 9pm\nDecember 6 from 10am to 6pm\nDecember 7 from 11am to 5pm \n  \nLocation\nPNE Forum\n2901 East Hastings St.Vancouver BC \n 
URL:https://hugandkissdesigns.com/event/make-it-vancouver-12/
LOCATION:PNE Forum\, 2901 E Hastings Street\, Vancouver\, British Columbia\, Canada
CATEGORIES:Craft Show,Holiday
ATTACH;FMTTYPE=image/jpeg:https://hugandkissdesigns.com/wp-content/uploads/2025/05/IMG_6435-scaled.jpeg
END:VEVENT
END:VCALENDAR