BEGIN:VCALENDAR
VERSION:2.0
PRODID:-//Hug and Kiss Designs Inc. - ECPv6.15.1.1//NONSGML v1.0//EN
CALSCALE:GREGORIAN
METHOD:PUBLISH
X-WR-CALNAME:Hug and Kiss Designs Inc.
X-ORIGINAL-URL:https://hugandkissdesigns.com
X-WR-CALDESC:Events for Hug and Kiss Designs Inc.
REFRESH-INTERVAL;VALUE=DURATION:PT1H
X-Robots-Tag:noindex
X-PUBLISHED-TTL:PT1H
BEGIN:VTIMEZONE
TZID:America/Vancouver
BEGIN:DAYLIGHT
TZOFFSETFROM:-0800
TZOFFSETTO:-0700
TZNAME:PDT
DTSTART:20260308T100000
END:DAYLIGHT
BEGIN:STANDARD
TZOFFSETFROM:-0700
TZOFFSETTO:-0800
TZNAME:PST
DTSTART:20261101T090000
END:STANDARD
END:VTIMEZONE
BEGIN:VEVENT
DTSTART;TZID=America/Vancouver:20260206T170000
DTEND;TZID=America/Vancouver:20260206T235900
DTSTAMP:20260419T172405
CREATED:20260204T172256Z
LAST-MODIFIED:20260204T172256Z
UID:10852-1770397200-1770422340@hugandkissdesigns.com
SUMMARY:Taboo Show
DESCRIPTION:
URL:https://hugandkissdesigns.com/event/taboo-show-2/
LOCATION:Canada Place\, 999 Canada Place\, Vancouver\, BC\, Canada
CATEGORIES:Convention
ATTACH;FMTTYPE=image/png:https://hugandkissdesigns.com/wp-content/uploads/2026/02/Screenshot-2026-02-04-at-9.18.32-AM.png
END:VEVENT
BEGIN:VEVENT
DTSTART;TZID=America/Vancouver:20260207T130000
DTEND;TZID=America/Vancouver:20260207T235900
DTSTAMP:20260419T172405
CREATED:20260204T172408Z
LAST-MODIFIED:20260204T172432Z
UID:10856-1770469200-1770508740@hugandkissdesigns.com
SUMMARY:Taboo Show
DESCRIPTION:
URL:https://hugandkissdesigns.com/event/taboo-show-copy/
LOCATION:Canada Place\, 999 Canada Place\, Vancouver\, BC\, Canada
CATEGORIES:Convention
ATTACH;FMTTYPE=image/png:https://hugandkissdesigns.com/wp-content/uploads/2026/02/Screenshot-2026-02-04-at-9.18.32-AM.png
END:VEVENT
BEGIN:VEVENT
DTSTART;TZID=America/Vancouver:20260208T120000
DTEND;TZID=America/Vancouver:20260208T170000
DTSTAMP:20260419T172405
CREATED:20260204T172523Z
LAST-MODIFIED:20260204T172523Z
UID:10859-1770552000-1770570000@hugandkissdesigns.com
SUMMARY:Taboo Show
DESCRIPTION:
URL:https://hugandkissdesigns.com/event/taboo-show-3/
LOCATION:Canada Place\, 999 Canada Place\, Vancouver\, BC\, Canada
CATEGORIES:Convention
ATTACH;FMTTYPE=image/png:https://hugandkissdesigns.com/wp-content/uploads/2026/02/Screenshot-2026-02-04-at-9.18.32-AM.png
END:VEVENT
BEGIN:VEVENT
DTSTART;TZID=America/Vancouver:20260227T160000
DTEND;TZID=America/Vancouver:20260227T210000
DTSTAMP:20260419T172405
CREATED:20260110T155152Z
LAST-MODIFIED:20260110T155230Z
UID:10804-1772208000-1772226000@hugandkissdesigns.com
SUMMARY:Fraser Valley Women's Expo
DESCRIPTION:Friday\, Feb. 27: 4pm -9pm\nSaturday\, Feb. 28: 10am -6pm\nSunday\, March 1: 10am -5pm
URL:https://hugandkissdesigns.com/event/fraser-valley-womens-expo/
LOCATION:Chilliwack Heritage Park\, 44140 Luckakuck Way\, Chilliwack\, British Columbia\, V2R 4A7\, Canada
CATEGORIES:Convention,Craft Show
ATTACH;FMTTYPE=image/jpeg:https://hugandkissdesigns.com/wp-content/uploads/2026/01/IMG_9092-scaled.jpeg
END:VEVENT
BEGIN:VEVENT
DTSTART;TZID=America/Vancouver:20260228T100000
DTEND;TZID=America/Vancouver:20260228T180000
DTSTAMP:20260419T172405
CREATED:20260110T155406Z
LAST-MODIFIED:20260110T155406Z
UID:10808-1772272800-1772301600@hugandkissdesigns.com
SUMMARY:Fraser Valley Women's Expo
DESCRIPTION:Friday\, Feb. 27: 4pm -9pm\nSaturday\, Feb. 28: 10am -6pm\nSunday\, March 1: 10am -5pm
URL:https://hugandkissdesigns.com/event/fraser-valley-womens-expo-2/
LOCATION:Chilliwack Heritage Park\, 44140 Luckakuck Way\, Chilliwack\, British Columbia\, V2R 4A7\, Canada
CATEGORIES:Convention,Craft Show
ATTACH;FMTTYPE=image/jpeg:https://hugandkissdesigns.com/wp-content/uploads/2026/01/IMG_9092-scaled.jpeg
END:VEVENT
END:VCALENDAR