BEGIN:VCALENDAR
VERSION:2.0
PRODID:-//Hug and Kiss Designs Inc. - ECPv6.15.1.1//NONSGML v1.0//EN
CALSCALE:GREGORIAN
METHOD:PUBLISH
X-WR-CALNAME:Hug and Kiss Designs Inc.
X-ORIGINAL-URL:https://hugandkissdesigns.com
X-WR-CALDESC:Events for Hug and Kiss Designs Inc.
REFRESH-INTERVAL;VALUE=DURATION:PT1H
X-Robots-Tag:noindex
X-PUBLISHED-TTL:PT1H
BEGIN:VTIMEZONE
TZID:America/Vancouver
BEGIN:DAYLIGHT
TZOFFSETFROM:-0800
TZOFFSETTO:-0700
TZNAME:PDT
DTSTART:20260308T100000
END:DAYLIGHT
BEGIN:STANDARD
TZOFFSETFROM:-0700
TZOFFSETTO:-0800
TZNAME:PST
DTSTART:20261101T090000
END:STANDARD
END:VTIMEZONE
BEGIN:VEVENT
DTSTART;TZID=America/Vancouver:20261101T100000
DTEND;TZID=America/Vancouver:20261101T170000
DTSTAMP:20260419T204314
CREATED:20260326T220914Z
LAST-MODIFIED:20260326T220914Z
UID:11092-1793527200-1793552400@hugandkissdesigns.com
SUMMARY:Fraser Valley Women's Expo
DESCRIPTION:Friday\, October 30: 5pm -9pm\nSaturday\, October 31: 10am -6pm\nSunday\, November 1: 10am -5pm
URL:https://hugandkissdesigns.com/event/fraser-valley-womens-expo-2026-3/
LOCATION:Chilliwack Heritage Park\, 44140 Luckakuck Way\, Chilliwack\, British Columbia\, V2R 4A7\, Canada
CATEGORIES:Convention,Craft Show
ATTACH;FMTTYPE=image/jpeg:https://hugandkissdesigns.com/wp-content/uploads/2026/01/IMG_9092-scaled.jpeg
END:VEVENT
BEGIN:VEVENT
DTSTART;TZID=America/Vancouver:20261111T110000
DTEND;TZID=America/Vancouver:20261111T210000
DTSTAMP:20260419T204314
CREATED:20260326T225117Z
LAST-MODIFIED:20260326T225153Z
UID:11100-1794394800-1794430800@hugandkissdesigns.com
SUMMARY:Circle Craft Vancouver
DESCRIPTION:Dates\nNovember 11 from 11am to 9pmNovember 12 from 10am to 9pmNovember 13 from 10am to 9pm\nNovember 14 from 10am to 6pmNovember 15 from 10am to 5pm\n \n  \nLocation\nVancouver Convention Centre West1055 Canada PlaceVancouver\, BC \n\nCost\n$
URL:https://hugandkissdesigns.com/event/circle-craft-2026/
LOCATION:Vancouver Convention Centre\, 1055 Canada Place\, Vancouver\, British Columbia\, V6C 0C3\, Canada
CATEGORIES:Convention,Craft Show,Holiday
ATTACH;FMTTYPE=image/jpeg:https://hugandkissdesigns.com/wp-content/uploads/2025/05/IMG_6435-scaled.jpeg
END:VEVENT
BEGIN:VEVENT
DTSTART;TZID=America/Vancouver:20261112T100000
DTEND;TZID=America/Vancouver:20261112T210000
DTSTAMP:20260419T204314
CREATED:20260326T225300Z
LAST-MODIFIED:20260326T225300Z
UID:11103-1794477600-1794517200@hugandkissdesigns.com
SUMMARY:Circle Craft Vancouver
DESCRIPTION:Dates\nNovember 11 from 11am to 9pmNovember 12 from 10am to 9pmNovember 13 from 10am to 9pm\nNovember 14 from 10am to 6pmNovember 15 from 10am to 5pm\n \n  \nLocation\nVancouver Convention Centre West1055 Canada PlaceVancouver\, BC \n\nCost\n$
URL:https://hugandkissdesigns.com/event/circle-craft-vancouver/
LOCATION:Vancouver Convention Centre\, 1055 Canada Place\, Vancouver\, British Columbia\, V6C 0C3\, Canada
CATEGORIES:Convention,Craft Show,Holiday
ATTACH;FMTTYPE=image/jpeg:https://hugandkissdesigns.com/wp-content/uploads/2025/05/IMG_6435-scaled.jpeg
END:VEVENT
BEGIN:VEVENT
DTSTART;TZID=America/Vancouver:20261113T100000
DTEND;TZID=America/Vancouver:20261113T210000
DTSTAMP:20260419T204315
CREATED:20260326T225420Z
LAST-MODIFIED:20260326T225420Z
UID:11105-1794564000-1794603600@hugandkissdesigns.com
SUMMARY:Circle Craft Vancouver
DESCRIPTION:Dates\nNovember 11 from 11am to 9pmNovember 12 from 10am to 9pmNovember 13 from 10am to 9pm\nNovember 14 from 10am to 6pmNovember 15 from 10am to 5pm\n \n  \nLocation\nVancouver Convention Centre West1055 Canada PlaceVancouver\, BC \n\nCost\n$
URL:https://hugandkissdesigns.com/event/circle-craft-vancouver-2/
LOCATION:Vancouver Convention Centre\, 1055 Canada Place\, Vancouver\, British Columbia\, V6C 0C3\, Canada
CATEGORIES:Convention,Craft Show,Holiday
ATTACH;FMTTYPE=image/jpeg:https://hugandkissdesigns.com/wp-content/uploads/2025/05/IMG_6435-scaled.jpeg
END:VEVENT
BEGIN:VEVENT
DTSTART;TZID=America/Vancouver:20261114T100000
DTEND;TZID=America/Vancouver:20261114T180000
DTSTAMP:20260419T204315
CREATED:20260326T225603Z
LAST-MODIFIED:20260326T225603Z
UID:11109-1794650400-1794679200@hugandkissdesigns.com
SUMMARY:Circle Craft Vancouver
DESCRIPTION:Dates\nNovember 11 from 11am to 9pmNovember 12 from 10am to 9pmNovember 13 from 10am to 9pm\nNovember 14 from 10am to 6pmNovember 15 from 10am to 5pm\n \n  \nLocation\nVancouver Convention Centre West1055 Canada PlaceVancouver\, BC \n\nCost\n$
URL:https://hugandkissdesigns.com/event/circle-craft-vancouver-3/
LOCATION:Vancouver Convention Centre\, 1055 Canada Place\, Vancouver\, British Columbia\, V6C 0C3\, Canada
CATEGORIES:Convention,Craft Show,Holiday
ATTACH;FMTTYPE=image/jpeg:https://hugandkissdesigns.com/wp-content/uploads/2025/05/IMG_6435-scaled.jpeg
END:VEVENT
BEGIN:VEVENT
DTSTART;TZID=America/Vancouver:20261115T100000
DTEND;TZID=America/Vancouver:20261115T170000
DTSTAMP:20260419T204315
CREATED:20260326T225714Z
LAST-MODIFIED:20260326T225714Z
UID:11111-1794736800-1794762000@hugandkissdesigns.com
SUMMARY:Circle Craft Vancouver
DESCRIPTION:Dates\nNovember 11 from 11am to 9pmNovember 12 from 10am to 9pmNovember 13 from 10am to 9pm\nNovember 14 from 10am to 6pmNovember 15 from 10am to 5pm\n \n  \nLocation\nVancouver Convention Centre West1055 Canada PlaceVancouver\, BC \n\nCost\n$
URL:https://hugandkissdesigns.com/event/circle-craft-vancouver-4/
LOCATION:Vancouver Convention Centre\, 1055 Canada Place\, Vancouver\, British Columbia\, V6C 0C3\, Canada
CATEGORIES:Convention,Craft Show,Holiday
ATTACH;FMTTYPE=image/jpeg:https://hugandkissdesigns.com/wp-content/uploads/2025/05/IMG_6435-scaled.jpeg
END:VEVENT
BEGIN:VEVENT
DTSTART;TZID=America/Vancouver:20261120T140000
DTEND;TZID=America/Vancouver:20261120T200000
DTSTAMP:20260419T204315
CREATED:20260326T222039Z
LAST-MODIFIED:20260326T223737Z
UID:11094-1795183200-1795204800@hugandkissdesigns.com
SUMMARY:Chilliwack Christmas Craft Fair
DESCRIPTION:Dates\nNovember 20 from 2pm to 8pmNovember 21 from 10am to 6pmNovember 22 from 10am to 4pm \n  \nLocation\nChilliwack Heritage Park44140 Luckakuck WayChilliwack BC \n\nCost\n$7 per person for the weekendFree for children 12 and underParking is by donation
URL:https://hugandkissdesigns.com/event/chilliwack-christmas-craft-fair-2026/
LOCATION:Chilliwack Heritage Park\, 44140 Luckakuck Way\, Chilliwack\, British Columbia\, V2R 4A7\, Canada
CATEGORIES:Convention,Craft Show,Holiday
ATTACH;FMTTYPE=image/jpeg:https://hugandkissdesigns.com/wp-content/uploads/2025/05/IMG_6435-scaled.jpeg
END:VEVENT
BEGIN:VEVENT
DTSTART;TZID=America/Vancouver:20261121T100000
DTEND;TZID=America/Vancouver:20261121T180000
DTSTAMP:20260419T204315
CREATED:20260326T223859Z
LAST-MODIFIED:20260326T223859Z
UID:11096-1795255200-1795284000@hugandkissdesigns.com
SUMMARY:Chilliwack Christmas Craft Fair
DESCRIPTION:Dates\nNovember 20 from 2pm to 8pmNovember 21 from 10am to 6pmNovember 22 from 10am to 4pm \n  \nLocation\nChilliwack Heritage Park44140 Luckakuck WayChilliwack BC \n\nCost\n$7 per person for the weekendFree for children 12 and underParking is by donation
URL:https://hugandkissdesigns.com/event/chilliwack-christmas-craft-fair-2026-2/
LOCATION:Chilliwack Heritage Park\, 44140 Luckakuck Way\, Chilliwack\, British Columbia\, V2R 4A7\, Canada
CATEGORIES:Convention,Craft Show,Holiday
ATTACH;FMTTYPE=image/jpeg:https://hugandkissdesigns.com/wp-content/uploads/2025/05/IMG_6435-scaled.jpeg
END:VEVENT
BEGIN:VEVENT
DTSTART;TZID=America/Vancouver:20261122T100000
DTEND;TZID=America/Vancouver:20261122T160000
DTSTAMP:20260419T204315
CREATED:20260326T223955Z
LAST-MODIFIED:20260326T223955Z
UID:11098-1795341600-1795363200@hugandkissdesigns.com
SUMMARY:Chilliwack Christmas Craft Fair
DESCRIPTION:Dates\nNovember 20 from 2pm to 8pmNovember 21 from 10am to 6pmNovember 22 from 10am to 4pm \n  \nLocation\nChilliwack Heritage Park44140 Luckakuck WayChilliwack BC \n\nCost\n$7 per person for the weekendFree for children 12 and underParking is by donation
URL:https://hugandkissdesigns.com/event/chilliwack-christmas-craft-fair-7/
LOCATION:Chilliwack Heritage Park\, 44140 Luckakuck Way\, Chilliwack\, British Columbia\, V2R 4A7\, Canada
CATEGORIES:Convention,Craft Show,Holiday
ATTACH;FMTTYPE=image/jpeg:https://hugandkissdesigns.com/wp-content/uploads/2025/05/IMG_6435-scaled.jpeg
END:VEVENT
END:VCALENDAR